BEGIN:VCALENDAR
VERSION:2.0
PRODID:-//eventon.com NONSGML v1.0//EN
CALSCALE:GREGORIAN
METHOD:PUBLISH
BEGIN:VEVENT
UID:69e8d86c6a48c
DTSTAMP:20260422T141716Z
DTSTART:20240315T200000Z
DTEND:20240315T100000Z
LOCATION:Sala Musik Plaza De Toros De Murcia\,  Paseo de Garay\,  14\,  30003 Murcia
SUMMARY:JOHNNY GARSO
DESCRIPTION:Johnny Garso estará presentando su nuevo álbum “Espada y Ro
 sa hasta que muera” en lo que será la primera gira del artista zaragozan
 o cantando en directo los temas de su último trabajo en español. Estamos 
 ante un disco de 13 cortes cargado de emociones\,  distorsión y un toque m
 oderno\,  que[..]\nhttps://supersonica.live/events/johnny-garso-murcia/
URL:https://supersonica.live/events/johnny-garso-murcia/
END:VEVENT
END:VCALENDAR